BEGIN:VCALENDAR
VERSION:2.0
PRODID:-//ChamberMaster//Event Calendar 2.0//EN
METHOD:PUBLISH
X-PUBLISHED-TTL:P3D
REFRESH-INTERVAL:P3D
CALSCALE:GREGORIAN
BEGIN:VEVENT
DTSTART:20260506T213000Z
DTEND:20260507T000000Z
X-MICROSOFT-CDO-ALLDAYEVENT:FALSE
SUMMARY:MEMBER EVENT: Power of the Purse+
DESCRIPTION:Explore statement accessories\, everyday essentials and so much more at Power of the Purse+. There is truly something for everyone. Join us Wednesday\, May 6\, 4:30-7:00 p.m. at County Line Hall in person or online to browse and bid on your favorite items. Every purchase supports Imagination Library and the gift of literacy for local children.\n\n\n\nMore information on tickets and how to bid\, even if you can't attend the event\, and available sponsorships can be found at UnitedWayRacine.org/purse.
X-ALT-DESC;FMTTYPE=text/html:Explore statement accessories\, everyday essentials and so much more at Power of the Purse+. There is truly something for everyone. Join us Wednesday\, May 6\, 4:30-7:00 p.m. at County Line Hall in person or online to browse and bid on your favorite items. Every purchase supports Imagination Library and the gift of literacy for local children.<br />\n<br />\nMore information on tickets and how to bid\, even if you can&#39\;t attend the event\, and available sponsorships can be found at UnitedWayRacine.org/purse.
LOCATION:County Line Hall 103 200th Ave. Union Grove
UID:e.2460.2835
SEQUENCE:3
DTSTAMP:20260422T093626Z
URL:https://business.racinechamber.com/events/details/member-event-power-of-the-purse-2835
END:VEVENT

END:VCALENDAR
