BEGIN:VCALENDAR
VERSION:2.0
PRODID:-//ChamberMaster//Event Calendar 2.0//EN
METHOD:PUBLISH
X-PUBLISHED-TTL:P3D
REFRESH-INTERVAL:P3D
CALSCALE:GREGORIAN
BEGIN:VEVENT
DTSTART:20260506T130000Z
DTEND:20260506T210000Z
X-MICROSOFT-CDO-ALLDAYEVENT:FALSE
SUMMARY:MEMBER EVENT: Clothing Drive
DESCRIPTION:Adecco Staffing is having a clothing drive partnering with Dress for Success to help collect items for individuals going into the business professional world. \n\n\n\nItems Needed:\n\n	Blouses - sizes 10-28\n	Pants - sizes 12-28\n	Handbags (including\n	briefcases and portfolios)\n	Jewelry (separated in\n	individual bags)\n	Gift cards ($20 $30)\n	from Macy's\, Amazon\,\n	Visa and MasterCard\n	Shoes free of damage
X-ALT-DESC;FMTTYPE=text/html:Adecco Staffing is having a clothing drive partnering with Dress for Success to help collect items for individuals going into the business professional world.&nbsp\;<br />\n<br />\nItems Needed:\n<ul>\n	<li>Blouses - sizes 10-28</li>\n	<li>Pants - sizes 12-28</li>\n	<li>Handbags (including</li>\n	<li>briefcases and portfolios)</li>\n	<li>Jewelry (separated in</li>\n	<li>individual bags)</li>\n	<li>Gift cards ($20&ndash\;$30)</li>\n	<li>from Macy&rsquo\;s\, Amazon\,</li>\n	<li>Visa and MasterCard</li>\n	<li>Shoes free of damage</li>\n</ul>\n
LOCATION:Adecco 6100 Washington Ave. Racine\, WI
UID:e.2460.2839
SEQUENCE:3
DTSTAMP:20260422T174730Z
URL:https://business.racinechamber.com/events/details/member-event-clothing-drive-2839
END:VEVENT

END:VCALENDAR
