BEGIN:VCALENDAR
VERSION:2.0
PRODID:-//ChamberMaster//Event Calendar 2.0//EN
METHOD:PUBLISH
X-PUBLISHED-TTL:P3D
REFRESH-INTERVAL:P3D
CALSCALE:GREGORIAN
BEGIN:VEVENT
DTSTART:20230422T140000Z
DTEND:20230423T220000Z
X-MICROSOFT-CDO-ALLDAYEVENT:FALSE
SUMMARY:MEMBER EVENT: C.A.R.E. Support Group Leader Training
DESCRIPTION:Make a difference using your personal experience with mental illness. Become certified to lead a support group for people affected by mental health conditions. Contact NAMI to help change people's lives for the better. \n\n\n\nThis is a 2-day training on April 22 and April 23.\n\n\n\nApril 16th is the deadline. Must be:\n\n	an individual with mental illness or a family member of a person with mental illness\n	at a good place in your wellness journey\n	willing to share your personal experience
X-ALT-DESC;FMTTYPE=text/html:<br />\nMake a difference using your personal experience with mental illness. Become certified to lead a support group for people affected by mental health conditions. Contact NAMI to help change people&#39\;s lives for the better.&nbsp\;<br />\n<br />\nThis is a 2-day training on April 22 and April 23.<br />\n<br />\nApril 16th is the deadline. Must be:\n<ul>\n	<li>an individual with mental illness or a family member of a person with mental illness</li>\n	<li>at a good place in your wellness journey</li>\n	<li>willing to share your personal experience</li>\n</ul>\n
LOCATION:NAMI Racine County 2300 De Koven Avenue
UID:e.2460.1963
SEQUENCE:3
DTSTAMP:20260423T210626Z
URL:https://business.racinechamber.com/events/details/member-event-c-a-r-e-support-group-leader-training-1963
END:VEVENT

END:VCALENDAR
