BEGIN:VCALENDAR
VERSION:2.0
PRODID:-//ChamberMaster//Event Calendar 2.0//EN
METHOD:PUBLISH
X-PUBLISHED-TTL:P3D
REFRESH-INTERVAL:P3D
CALSCALE:GREGORIAN
BEGIN:VEVENT
DTSTART:20230427T214500Z
DTEND:20230428T010000Z
X-MICROSOFT-CDO-ALLDAYEVENT:FALSE
SUMMARY:Business Awards Dinner
DESCRIPTION:REGISTER HERE\n\n\n\nThe RAMAC Business Awards recognize excellence and achievement of RAMAC member organizations in business improvement\, growth\, innovation\, and/or support to its employees and the community contributing to the improvement of the business climate and vitality of the greater Racine area.\n\n \n\nThe awards will be presented at a dinner to celebrate your sweet success with emcee Hope Otto\, Racine County Human Services Director.\n\n	Manufacturer of the Year - Reed Switch Developments Corp.\n	Small Business of the Year - Milaeger's\n	The Judy Moungey Award for Youth Apprenticeship - Educators Credit Union\n	Business Person of the Year - Joey and Anna LeGath\n	Apollo Award presented by Racine County - Amanda Roman\, Domina Consulting Inc\n	Ascension Healthy Workplace Award  - City of Racine\, Racine County\, Racine Unified School District
X-ALT-DESC;FMTTYPE=text/html:<br />\n<a href="http://events.constantcontact.com/register/event?llr=h6ttkicab&amp\;oeidk=a07ejoephwlc5eeff38"><span style="font-size:18px\;"><font color="#000066"><b>REGISTER HERE</b></font></span></a><br />\n<br />\n<span style="font-size:14px\;"><span style="font-family:arial\;">The <strong>RAMAC Business Awards</strong>&nbsp\;recognize excellence and achievement of RAMAC member organizations in business improvement\, growth\, innovation\, and/or support to its employees and the community contributing to the improvement of the business climate and vitality of the greater Racine area.<br />\n&nbsp\;<br />\nThe awards will be presented at a dinner to <strong>celebrate your sweet success</strong> with emcee Hope Otto\, Racine County Human Services Director.</span></span>\n<ul>\n	<li><span style="font-size:14px\;"><span style="font-family:arial\;">Manufacturer of the Year&nbsp\;- <strong>Reed Switch Developments Corp.</strong></span></span></li>\n	<li><span style="font-size:14px\;"><span style="font-family:arial\;">Small Business of the Year&nbsp\;-</span></span><strong><span style="font-size:14px\;"><span style="font-family:arial\;"> Milaeger&#39\;s</span></span></strong></li>\n	<li><span style="font-size:14px\;"><span style="font-family:arial\;">The Judy Moungey Award for Youth Apprenticeship -<strong> Educators Credit Union</strong></span></span></li>\n	<li style="text-autospace:none\;"><span style="font-size:14px\;"><span style="font-family:arial\;">Business Person of the Year&nbsp\;-<strong> Joey and Anna LeGath</strong></span></span></li>\n	<li style="text-autospace:none\;"><span style="font-size:14px\;"><span style="font-family:arial\;">Apollo Award presented by Racine County - <strong>Amanda Roman\, Domina Consulting&nbsp\;Inc</strong></span></span></li>\n	<li style="text-autospace:none\;"><span style="font-size:14px\;"><span style="font-family:arial\;">Ascension&nbsp\;Healthy Workplace Award<span style="font-size:14px\;"><span style="font-family:arial\;">&#8203\;</span></span>&nbsp\;-&nbsp\;</span></span><strong style="font-family: arial\; font-size: 14px\;">City of Racine\, Racine County\, Racine Unified School District</strong></li>\n</ul>\n
LOCATION:Roma Lodge 7130 Spring Street
UID:e.2460.1897
SEQUENCE:3
DTSTAMP:20260424T035937Z
URL:https://business.racinechamber.com/events/details/business-awards-dinner-1897
END:VEVENT

END:VCALENDAR
